BEGIN:VCALENDAR
VERSION:2.0
PRODID:-//Barrierefreier Tourismus mit MosGiTo - ECPv6.15.20//NONSGML v1.0//EN
CALSCALE:GREGORIAN
METHOD:PUBLISH
X-ORIGINAL-URL:https://mosgito.de
X-WR-CALDESC:Veranstaltungen für Barrierefreier Tourismus mit MosGiTo
REFRESH-INTERVAL;VALUE=DURATION:PT1H
X-Robots-Tag:noindex
X-PUBLISHED-TTL:PT1H
BEGIN:VTIMEZONE
TZID:Europe/Berlin
BEGIN:DAYLIGHT
TZOFFSETFROM:+0100
TZOFFSETTO:+0200
TZNAME:CEST
DTSTART:20250330T010000
END:DAYLIGHT
BEGIN:STANDARD
TZOFFSETFROM:+0200
TZOFFSETTO:+0100
TZNAME:CET
DTSTART:20251026T010000
END:STANDARD
BEGIN:DAYLIGHT
TZOFFSETFROM:+0100
TZOFFSETTO:+0200
TZNAME:CEST
DTSTART:20260329T010000
END:DAYLIGHT
BEGIN:STANDARD
TZOFFSETFROM:+0200
TZOFFSETTO:+0100
TZNAME:CET
DTSTART:20261025T010000
END:STANDARD
BEGIN:DAYLIGHT
TZOFFSETFROM:+0100
TZOFFSETTO:+0200
TZNAME:CEST
DTSTART:20270328T010000
END:DAYLIGHT
BEGIN:STANDARD
TZOFFSETFROM:+0200
TZOFFSETTO:+0100
TZNAME:CET
DTSTART:20271031T010000
END:STANDARD
END:VTIMEZONE
BEGIN:VEVENT
DTSTART;VALUE=DATE:20260615
DTEND;VALUE=DATE:20260621
DTSTAMP:20260422T024935
CREATED:20220216T133520Z
LAST-MODIFIED:20251016T102813Z
UID:10000064-1781481600-1781999999@mosgito.de
SUMMARY:Special Olympics Nationale Spiele im Saarland
DESCRIPTION:Special Olympics ist die weltweit größte Sportbewegung für Menschen mit geistiger Behinderung und Mehrfachbehinderung. Sie ist vom Internationalen Olympischen Komitee offiziell anerkannt und darf als einzige Organisation den Ausdruck „Olympics“ weltweit nutzen. \n2026 finden die Nationalen Spiele im Saarland statt. \nTourismusakteuren empfehle ich\, mal bei den Spielen zuzusehen – live oder über die Medien\, die das hoffentlich aufgreifen werden! Sie können viel über die Menschen lernen\, die vielleicht auch mal bei Ihnen zu Gast sein werden
URL:https://mosgito.de/veranstaltung/special-olympics-saarland/
LOCATION:Saarland
CATEGORIES:Zielgruppen-Event
END:VEVENT
END:VCALENDAR