BEGIN:VCALENDAR
VERSION:2.0
PRODID:-//Barrierefreier Tourismus mit MosGiTo - ECPv6.15.20//NONSGML v1.0//EN
CALSCALE:GREGORIAN
METHOD:PUBLISH
X-WR-CALNAME:Barrierefreier Tourismus mit MosGiTo
X-ORIGINAL-URL:https://mosgito.de
X-WR-CALDESC:Veranstaltungen für Barrierefreier Tourismus mit MosGiTo
REFRESH-INTERVAL;VALUE=DURATION:PT1H
X-Robots-Tag:noindex
X-PUBLISHED-TTL:PT1H
BEGIN:VTIMEZONE
TZID:Europe/Berlin
BEGIN:DAYLIGHT
TZOFFSETFROM:+0100
TZOFFSETTO:+0200
TZNAME:CEST
DTSTART:20210328T010000
END:DAYLIGHT
BEGIN:STANDARD
TZOFFSETFROM:+0200
TZOFFSETTO:+0100
TZNAME:CET
DTSTART:20211031T010000
END:STANDARD
BEGIN:DAYLIGHT
TZOFFSETFROM:+0100
TZOFFSETTO:+0200
TZNAME:CEST
DTSTART:20220327T010000
END:DAYLIGHT
BEGIN:STANDARD
TZOFFSETFROM:+0200
TZOFFSETTO:+0100
TZNAME:CET
DTSTART:20221030T010000
END:STANDARD
BEGIN:DAYLIGHT
TZOFFSETFROM:+0100
TZOFFSETTO:+0200
TZNAME:CEST
DTSTART:20230326T010000
END:DAYLIGHT
BEGIN:STANDARD
TZOFFSETFROM:+0200
TZOFFSETTO:+0100
TZNAME:CET
DTSTART:20231029T010000
END:STANDARD
BEGIN:DAYLIGHT
TZOFFSETFROM:+0100
TZOFFSETTO:+0200
TZNAME:CEST
DTSTART:20240331T010000
END:DAYLIGHT
BEGIN:STANDARD
TZOFFSETFROM:+0200
TZOFFSETTO:+0100
TZNAME:CET
DTSTART:20241027T010000
END:STANDARD
END:VTIMEZONE
BEGIN:VEVENT
DTSTART;TZID=Europe/Berlin:20230512T110000
DTEND;TZID=Europe/Berlin:20230512T120000
DTSTAMP:20260425T234627
CREATED:20220216T151129Z
LAST-MODIFIED:20221214T084954Z
UID:10000039-1683889200-1683892800@mosgito.de
SUMMARY:MosGiTo-Online-Austausch
DESCRIPTION:Wo stehen Sie aktuell auf Ihrem Weg zur Barrierefreiheit? Möchten Sie noch besser in Fahrt kommen\, zum Beispiel durch Tipps von mir und anderen Weggefährten? Oder von einem Ihrer erfolgreichen Projekte berichten?\nIm MosGiTo-Online-Austausch treffen sich Kundinnen und Kunden\, Partner und Interessierte zum Austausch über das Thema Barrierefreiheit im Tourismus. Ich habe aktuelle oder vertiefende Themen im Gepäck und freue mich auf Ihre Berichte aus der Praxis und das Netzwerken untereinander! Das Treffen eignet sich auch gut zum ersten Begegnen – für alle\, die mich und meine Arbeitsweise noch nicht kennen. \nSchauen Sie doch einfach mal vorbei! \nDer MosGiTo-Online-Austausch findet regelmäßig\, immer am 2. Freitag im Monat statt. Die Teilnahme ist kostenfrei\, eine Anmeldung erwünscht. Sie erhalten nach der Anmeldung eine Terminbestätigung mit dem Zugangslink für den Zoom-Raum.
URL:https://mosgito.de/veranstaltung/mosgito-online-austausch/2023-05-12/
LOCATION:Online
CATEGORIES:MosGiTo,Netzwerken
ORGANIZER;CN="MosGiTo":MAILTO:info@mosgito.de
END:VEVENT
BEGIN:VEVENT
DTSTART;TZID=Europe/Berlin:20230503T140000
DTEND;TZID=Europe/Berlin:20230503T160000
DTSTAMP:20260425T234627
CREATED:20230328T115456Z
LAST-MODIFIED:20230328T115456Z
UID:10000059-1683122400-1683129600@mosgito.de
SUMMARY:Wem schmeckt mein Köder? Öffentlichkeitsarbeit für ältere Zielgruppen (in Kultureinrichtungen)
DESCRIPTION:Stell dir vor\, du machst ein tolles Kulturangebot für Ältere und niemand geht hin. Eine Sorge\, die wohl jede*n Kulturanbieter*in umtreibt\, gerade wenn sich ein neues Format etablieren soll\, das noch nicht vielfach erprobt ist oder einen festen Teilnehmenden-Kreis hat. Marketing und Öffentlichkeitsarbeit sind wichtig\, um eigene Angebote bekannt zu machen. Nicht nur Inhalt und Form des Angebots müssen den avisierten Zielgruppen entsprechen\, auch die zugehörige Kommunikation muss ihr angemessen sein. \nIm Workshop nehmen wir in den Blick\, was bei der Planung und Umsetzung von Maßnahmen der Öffentlichkeitsarbeit beachtet werden sollte\, damit diejenigen erreicht werden\, für die das Angebot gedacht ist. Da es nicht „die Alten“ gibt und stets bestimmte Gruppen unter den Älteren – und bei generationenübergreifenden Angeboten auch darüber hinaus – angesprochen werden sollen\, wird in dieser Veranstaltung kein „Patentrezept“ präsentiert. Vielmehr sollen ausgehend vom Ansatz der „altersfreundlichen Kommunikation“ (age-friendly communication)\, anhand von Praxisbeispielen und im Austausch über eigene Erfahrungen gemeinsam Ideen\, Strategien und Praxistipps erarbeitet und diskutiert werden. \nDie Veranstaltung richtet sich an interessierte nordrhein-westfälische Kulturmacher*innen. \nEine Veranstaltung des Kompetenzzentrums für Kulturelle Bildung im Alter und inklusive Kultur.
URL:https://mosgito.de/veranstaltung/wem-schmeckt-mein-koeder-oeffentlichkeitsarbeit-fuer-aeltere-zielgruppen-in-kultureinrichtungen/
LOCATION:Online
CATEGORIES:Schulung (extern)
END:VEVENT
BEGIN:VEVENT
DTSTART;TZID=Europe/Berlin:20230424T100000
DTEND;TZID=Europe/Berlin:20230424T123000
DTSTAMP:20260425T234627
CREATED:20230328T114942Z
LAST-MODIFIED:20230328T114942Z
UID:10000148-1682330400-1682339400@mosgito.de
SUMMARY:Barrierearm Musik machen\, erleben und feiern: Anregungen für Konzertveranstalter*innen
DESCRIPTION:Musiker*innen mit Behinderung wollen auf die Bühne\, Musikinteressierte mit Behinderung ins Konzert\, Musikveranstalter*innen mehr Vielfalt. Zusammen Musik erleben\, Musik machen und gemeinsam feiern\, das ist das Ziel. Wie alle besser zueinander finden und Musikveranstaltungen barrierefreier werden können\, darum geht es in dieser Veranstaltung. \nInputgeber sind Thorsten Hesse und Nils Rottgardt. Thorsten Hesse stellt Handiclapped\, Berlin\, und die deutschlandweite Plattform Pinc Music vor\, die Musiker*innen mit Behinderung und inklusive Ensembles vermittelt. Beide Initiativen machen sich für mehr Inklusion in der Musik-Kultur stark. Nils Rottgardt berichtet über Produktionen mit Musiker*innen mit und ohne Behinderung des Un-Label Sound & Music Department\, Köln. Die kubia-Mitarbeiterinnen Isabell Rosenberg und Annette Ziegert geben darüber hinaus Anregungen für Barrierefreiheit bei Musikveranstaltungen. \nZielgruppe der Veranstaltung sind nordrhein-westfälische Konzertveranstalter*innen\, Mitarbeiter*innen von Musikfestivals\, Musiker*innen mit und ohne Behinderung und alle Interessierten. \nEine Veranstaltung des Kompetenzzentrums für Kulturelle Bildung im Alter und inklusive Kultur\, in Kooperation mit den Büros des Regionalen Kultur Programms NRW (RKP).
URL:https://mosgito.de/veranstaltung/barrierearm-musik-machen-erleben-und-feiern-anregungen-fuer-konzertveranstalterinnen/
LOCATION:Online
CATEGORIES:Schulung (extern)
END:VEVENT
BEGIN:VEVENT
DTSTART;TZID=Europe/Berlin:20230414T110000
DTEND;TZID=Europe/Berlin:20230414T120000
DTSTAMP:20260425T234627
CREATED:20220216T151129Z
LAST-MODIFIED:20221214T084954Z
UID:10000038-1681470000-1681473600@mosgito.de
SUMMARY:MosGiTo-Online-Austausch
DESCRIPTION:Wo stehen Sie aktuell auf Ihrem Weg zur Barrierefreiheit? Möchten Sie noch besser in Fahrt kommen\, zum Beispiel durch Tipps von mir und anderen Weggefährten? Oder von einem Ihrer erfolgreichen Projekte berichten?\nIm MosGiTo-Online-Austausch treffen sich Kundinnen und Kunden\, Partner und Interessierte zum Austausch über das Thema Barrierefreiheit im Tourismus. Ich habe aktuelle oder vertiefende Themen im Gepäck und freue mich auf Ihre Berichte aus der Praxis und das Netzwerken untereinander! Das Treffen eignet sich auch gut zum ersten Begegnen – für alle\, die mich und meine Arbeitsweise noch nicht kennen. \nSchauen Sie doch einfach mal vorbei! \nDer MosGiTo-Online-Austausch findet regelmäßig\, immer am 2. Freitag im Monat statt. Die Teilnahme ist kostenfrei\, eine Anmeldung erwünscht. Sie erhalten nach der Anmeldung eine Terminbestätigung mit dem Zugangslink für den Zoom-Raum.
URL:https://mosgito.de/veranstaltung/mosgito-online-austausch/2023-04-14/
LOCATION:Online
CATEGORIES:MosGiTo,Netzwerken
ORGANIZER;CN="MosGiTo":MAILTO:info@mosgito.de
END:VEVENT
BEGIN:VEVENT
DTSTART;TZID=Europe/Berlin:20230310T110000
DTEND;TZID=Europe/Berlin:20230310T120000
DTSTAMP:20260425T234627
CREATED:20220216T151129Z
LAST-MODIFIED:20221214T084954Z
UID:10000037-1678446000-1678449600@mosgito.de
SUMMARY:MosGiTo-Online-Austausch
DESCRIPTION:Wo stehen Sie aktuell auf Ihrem Weg zur Barrierefreiheit? Möchten Sie noch besser in Fahrt kommen\, zum Beispiel durch Tipps von mir und anderen Weggefährten? Oder von einem Ihrer erfolgreichen Projekte berichten?\nIm MosGiTo-Online-Austausch treffen sich Kundinnen und Kunden\, Partner und Interessierte zum Austausch über das Thema Barrierefreiheit im Tourismus. Ich habe aktuelle oder vertiefende Themen im Gepäck und freue mich auf Ihre Berichte aus der Praxis und das Netzwerken untereinander! Das Treffen eignet sich auch gut zum ersten Begegnen – für alle\, die mich und meine Arbeitsweise noch nicht kennen. \nSchauen Sie doch einfach mal vorbei! \nDer MosGiTo-Online-Austausch findet regelmäßig\, immer am 2. Freitag im Monat statt. Die Teilnahme ist kostenfrei\, eine Anmeldung erwünscht. Sie erhalten nach der Anmeldung eine Terminbestätigung mit dem Zugangslink für den Zoom-Raum.
URL:https://mosgito.de/veranstaltung/mosgito-online-austausch/2023-03-10/
LOCATION:Online
CATEGORIES:MosGiTo,Netzwerken
ORGANIZER;CN="MosGiTo":MAILTO:info@mosgito.de
END:VEVENT
BEGIN:VEVENT
DTSTART;TZID=Europe/Berlin:20230307T100000
DTEND;TZID=Europe/Berlin:20230307T130000
DTSTAMP:20260425T234627
CREATED:20230126T103217Z
LAST-MODIFIED:20230126T103217Z
UID:10000122-1678183200-1678194000@mosgito.de
SUMMARY:Online Accessibility Day: Digitale Barrierefreiheit erleben
DESCRIPTION:Die Stiftung Pfennigparade in München hat sich unter anderem das Thema Digitale Barrierefreiheit auf die Fahnen geschrieben. Ein Team aus Menschen mit und ohne Behinderung prüft beispielsweise Internetseiten auf Barrierefreiheit. Auch meine MosGiTo-Internetseite wurde nach dem Relaunch Anfang 2022 von der Pfennigparade geprüft. \nBeim Online Accessibility Day stellt die Pfennigparade Digitale Barrierefreiheit grundsätzlich vor. \nWas sind die Merkmale eines barrierefreien Webauftritts? Warum lohnt sich Barrierefreiheit für alle? Wie fühlt man sich als behinderter Mensch\, wenn man im Internet surft? \nDie Teilnahme an der Online-Veranstaltung ist kostenfrei.
URL:https://mosgito.de/veranstaltung/online-accessibility-day-digitale-barrierefreiheit-erleben/
LOCATION:Online
CATEGORIES:Schulung (extern)
END:VEVENT
BEGIN:VEVENT
DTSTART;TZID=Europe/Berlin:20230210T110000
DTEND;TZID=Europe/Berlin:20230210T120000
DTSTAMP:20260425T234627
CREATED:20220216T151129Z
LAST-MODIFIED:20221214T084954Z
UID:10000036-1676026800-1676030400@mosgito.de
SUMMARY:MosGiTo-Online-Austausch
DESCRIPTION:Wo stehen Sie aktuell auf Ihrem Weg zur Barrierefreiheit? Möchten Sie noch besser in Fahrt kommen\, zum Beispiel durch Tipps von mir und anderen Weggefährten? Oder von einem Ihrer erfolgreichen Projekte berichten?\nIm MosGiTo-Online-Austausch treffen sich Kundinnen und Kunden\, Partner und Interessierte zum Austausch über das Thema Barrierefreiheit im Tourismus. Ich habe aktuelle oder vertiefende Themen im Gepäck und freue mich auf Ihre Berichte aus der Praxis und das Netzwerken untereinander! Das Treffen eignet sich auch gut zum ersten Begegnen – für alle\, die mich und meine Arbeitsweise noch nicht kennen. \nSchauen Sie doch einfach mal vorbei! \nDer MosGiTo-Online-Austausch findet regelmäßig\, immer am 2. Freitag im Monat statt. Die Teilnahme ist kostenfrei\, eine Anmeldung erwünscht. Sie erhalten nach der Anmeldung eine Terminbestätigung mit dem Zugangslink für den Zoom-Raum.
URL:https://mosgito.de/veranstaltung/mosgito-online-austausch/2023-02-10/
LOCATION:Online
CATEGORIES:MosGiTo,Netzwerken
ORGANIZER;CN="MosGiTo":MAILTO:info@mosgito.de
END:VEVENT
BEGIN:VEVENT
DTSTART;TZID=Europe/Berlin:20230113T110000
DTEND;TZID=Europe/Berlin:20230113T120000
DTSTAMP:20260425T234627
CREATED:20220216T151129Z
LAST-MODIFIED:20221214T084954Z
UID:10000035-1673607600-1673611200@mosgito.de
SUMMARY:MosGiTo-Online-Austausch
DESCRIPTION:Wo stehen Sie aktuell auf Ihrem Weg zur Barrierefreiheit? Möchten Sie noch besser in Fahrt kommen\, zum Beispiel durch Tipps von mir und anderen Weggefährten? Oder von einem Ihrer erfolgreichen Projekte berichten?\nIm MosGiTo-Online-Austausch treffen sich Kundinnen und Kunden\, Partner und Interessierte zum Austausch über das Thema Barrierefreiheit im Tourismus. Ich habe aktuelle oder vertiefende Themen im Gepäck und freue mich auf Ihre Berichte aus der Praxis und das Netzwerken untereinander! Das Treffen eignet sich auch gut zum ersten Begegnen – für alle\, die mich und meine Arbeitsweise noch nicht kennen. \nSchauen Sie doch einfach mal vorbei! \nDer MosGiTo-Online-Austausch findet regelmäßig\, immer am 2. Freitag im Monat statt. Die Teilnahme ist kostenfrei\, eine Anmeldung erwünscht. Sie erhalten nach der Anmeldung eine Terminbestätigung mit dem Zugangslink für den Zoom-Raum.
URL:https://mosgito.de/veranstaltung/mosgito-online-austausch/2023-01-13/
LOCATION:Online
CATEGORIES:MosGiTo,Netzwerken
ORGANIZER;CN="MosGiTo":MAILTO:info@mosgito.de
END:VEVENT
BEGIN:VEVENT
DTSTART;VALUE=DATE:20221109
DTEND;VALUE=DATE:20221111
DTSTAMP:20260425T234627
CREATED:20220411T080557Z
LAST-MODIFIED:20220411T080557Z
UID:10000137-1667952000-1668124799@mosgito.de
SUMMARY:Online-Seminar "Digitale Barrierefreiheit für touristische Anbieter"
DESCRIPTION:Wie surft man im Internet\, wenn man die Maus nicht bedienen kann? Kann ich über Instagram auch mit blinden Menschen kommunizieren? Und was hat es mit den Buttons für Gebärdensprache und Leichter Sprache auf sich\, die neuerdings auf vielen Internetseiten zu finden sind? \nDigitale Barrierefreiheit bedeutet Zugänglichkeit\, Lesbarkeit\, Verständlichkeit und Robustheit oder kurz gesagt: Internetseiten\, Apps\, Software und Social Media für Alle! \nDas Seminar findet online über Zoom statt. Veranstalter ist das Deutsche Seminar für Tourismus (DSFT)\, das mich hierfür als Referentin gebucht hat. Unterstützt werde ich bei dieser Thematik von der Online Agentin Claudia Wollbrück. \nVeranstaltungsdauer: an beiden Tagen von 9 – 12 Uhr.
URL:https://mosgito.de/veranstaltung/online-seminar-digitale-barrierefreiheit-fuer-touristische-anbieter/
LOCATION:Online
CATEGORIES:MosGiTo,Schulung
END:VEVENT
BEGIN:VEVENT
DTSTART;TZID=Europe/Berlin:20221025T090000
DTEND;TZID=Europe/Berlin:20221025T120000
DTSTAMP:20260425T234627
CREATED:20220718T075119Z
LAST-MODIFIED:20220718T075119Z
UID:10000140-1666688400-1666699200@mosgito.de
SUMMARY:Online-Seminar "Veranstaltungen barrierefrei gestalten"
DESCRIPTION:Ob Gartenschau\, Kulturveranstaltung\, Weihnachtsmarkt oder Tagung\, Messe\, Arbeitstreffen – die Vielfalt an Veranstaltungen ist so bunt wie die Teilnehmer*innen\, die Sie sich wünschen. Die Anforderungen der Besucher*innen reichen dabei von der Terminankündigung im lesbaren Design und ansprechenden Wording über die bequeme Zugänglichkeit des Veranstaltungsortes bis hin zum inklusiven Beisammensein. \nIn diesem Online-Seminar machen wir uns mit den Anforderungen von Barrierefreiheit vertraut und lernen Möglichkeiten kennen\, Veranstaltungen für möglichst viele Menschen zu gestalten. Was hindert wen an der Teilnahme und was wäre für alle ein echter Komfort? \nSie erhalten Hintergrundwissen und Tipps\, die Ihnen die möglichst barrierefreie Organisation Ihres nächsten Events erleichtern. \nDas Seminar findet am Vormittag\, von 9 bis 12 Uhr\, online über Zoom statt. Veranstalter ist das Deutsche Seminar für Tourismus (DSFT)\, das mich hierfür als Referentin gebucht hat. Zur Anmeldung wenden Sie sich bitte direkt an das DSFT.
URL:https://mosgito.de/veranstaltung/online-seminar-veranstaltungen-barrierefrei-gestalten/
LOCATION:Online
CATEGORIES:MosGiTo,Schulung
END:VEVENT
BEGIN:VEVENT
DTSTART;TZID=Europe/Berlin:20221020T090000
DTEND;TZID=Europe/Berlin:20221020T120000
DTSTAMP:20260425T234627
CREATED:20220718T074647Z
LAST-MODIFIED:20220718T075231Z
UID:10000139-1666256400-1666267200@mosgito.de
SUMMARY:Online-Seminar "Komfort durch Barrierefreiheit"
DESCRIPTION:Die Grundidee hinter Barrierefreiheit ist die Teilhabe und Inklusion von Menschen mit Behinderung. Damit ermöglicht Barrierefreiheit es vielen Menschen\, überhaupt zu reisen. Gleichzeitig erleichtert Barrierefreiheit aber auch allen anderen Menschen das Reisen\, denn die Maßnahmen\, die wir zur Barrierefreiheit unternehmen\, schaffen einen Komfort für Alle! \nIn diesem Online-Seminar zeigen wir Ihnen den Mehrwert des Themas Barrierefreiheit für Sie selbst und Ihre Gäste. Sie erfahren\, wie Sie aus den Grundprinzipien der Barrierefrei-Maßnahmen einen Komfort für Alle ziehen und wie sie diesen Komfort an alle Gäste kommunizieren. Denn viele Menschen schrecken vor Begriffen wie Behinderung oder Barrierefreiheit zurück – freuen sich aber trotzdem über Komfortleistungen wie Sitzgelegenheiten oder verständliche Sprache. \nDas Seminar findet am Vormittag\, von 9 bis 12 Uhr\, online über Zoom statt. Veranstalter ist das Deutsche Seminar für Tourismus (DSFT)\, das mich hierfür als Referentin gebucht hat. Zur Anmeldung wenden Sie sich bitte direkt an das DSFT.
URL:https://mosgito.de/veranstaltung/online-seminar-komfort-durch-barrierefreiheit/
LOCATION:Online
CATEGORIES:MosGiTo,Schulung
END:VEVENT
BEGIN:VEVENT
DTSTART;TZID=Europe/Berlin:20220622T100000
DTEND;TZID=Europe/Berlin:20220622T110000
DTSTAMP:20260425T234627
CREATED:20220607T100256Z
LAST-MODIFIED:20220607T100256Z
UID:10000138-1655892000-1655895600@mosgito.de
SUMMARY:MAQNIcademy-Online-Impuls "Leichte Sprache im Tourismus"
DESCRIPTION:MAQNIFY startet mit der „MAQNIcademy – Wissen kostenlos – aber nicht umsonst“ eine neue Webinarreihe mit Impulsen für DMOs und TIs. In loser Folge stellt MAQNIFY branchenführenden Referent*innen eine Plattform für Impulse zu unterschiedlichen Themen zur Verfügung. \nZum Auftakt greift die MAQNIcademy das Thema „Leichte Sprache“ in einem einstündigen Webinar auf. \nReferentin: Gisela Moser\, MosGiTo \nDas Webinar ist kostenfrei. Anmeldungen bitte unter diesem Link: \nhttps://us02web.zoom.us/meeting/register/tZMvdO2oqDojHNZvNt00M_c0pP-sJ_2VMkDm
URL:https://mosgito.de/veranstaltung/maqnicademy-online-impuls-leichte-sprache-im-tourismus/
LOCATION:Online
CATEGORIES:MosGiTo,Schulung (extern)
END:VEVENT
BEGIN:VEVENT
DTSTART;TZID=Europe/Berlin:20220602T100000
DTEND;TZID=Europe/Berlin:20220602T170000
DTSTAMP:20260425T234627
CREATED:20220411T080131Z
LAST-MODIFIED:20220411T080131Z
UID:10000136-1654164000-1654189200@mosgito.de
SUMMARY:Konferenz zum Barrierefreiheitsstärkungsgesetz
DESCRIPTION:Öffentliche Einrichtungen des Bundes\, der Länder und der Kommunen sind bereits durch einige Gesetze zur Barrierefreiheit verpflichtet – aber wie geht es für die Privatwirtschaft weiter? Auch sie wird in den kommenden Jahren in die Pflicht genommen – genauer gesagt ab 2025. Was das genau bedeutet\, wie die Gesetzgebung durchgeführt wird\, und welche Unternehmen bereits heute auf Barrierefreiheit achten – all das soll Thema sein bei einer Konferenz am 2. Juni 2022. \nDie Veranstaltung wird von der Bundesfachstelle Barrierefreiheit gemeinsam mit dem DIN und Bitkom organisiert und findet als hybride Konferenz in Berlin bzw. online statt. \nWeitere Infos unten\, beim Klick auf den Link „Veranstaltungs-Website“.
URL:https://mosgito.de/veranstaltung/konferenz-zum-barrierefreiheitsstaerkungsgesetz/
LOCATION:Online
CATEGORIES:Tagung
END:VEVENT
BEGIN:VEVENT
DTSTART;VALUE=DATE:20220511
DTEND;VALUE=DATE:20220513
DTSTAMP:20260425T234627
CREATED:20220216T133801Z
LAST-MODIFIED:20220216T190430Z
UID:10000052-1652227200-1652399999@mosgito.de
SUMMARY:Online-Seminar „Events barrierefrei gestalten“
DESCRIPTION:In dieser Schulung beleuchten wir ganz speziell das Thema Veranstaltungen unter dem Aspekt der Teilhabe für Alle. Wie können auch behinderte und ältere Menschen optimal teilnehmen an Ihren Tagungen\, Kongressen\, Messen\, Märkten\, Konzerten – oder an Arbeitstreffen zum Thema Barrierefreiheit? \nDas Seminar findet online über Zoom statt. Veranstalter ist das Deutsche Seminar für Tourismus (DSFT)\, das mich hierfür als Referentin gebucht hat.
URL:https://mosgito.de/veranstaltung/online-seminar-events-barrierefrei-gestalten/
LOCATION:Online
CATEGORIES:MosGiTo,Schulung
END:VEVENT
BEGIN:VEVENT
DTSTART;VALUE=DATE:20220301
DTEND;VALUE=DATE:20220304
DTSTAMP:20260425T234627
CREATED:20220216T133639Z
LAST-MODIFIED:20220216T192046Z
UID:10000030-1646092800-1646351999@mosgito.de
SUMMARY:Schulung „Barrierefreie PDF-Dokumente aus InDesign“
DESCRIPTION:Barrierefreie PDF-Dokumente sind hilfreich für alle\, die mit technischen Assistenzdiensten arbeiten wie z.B. Screenreader. Für öffentliche Träger ist es gesetzlich verpflichtend\, veröffentlichte PDF-Dokumente barrierefrei zu gestalten. Und das ist kein Hexenwerk! \nIch arbeite für die Erstellung von barrierefreien PDFs mit einem Plug-In für InDesign. In diesem Workshop wird erklärt\, wie das geht. Schicken Sie Ihren Grafiker oder Ihre Grafikerin zu dieser Schulung! Dann können Sie künftig mit wenig Aufwand stolz sein auf all Ihre Broschüren als barrierefreie PDF!
URL:https://mosgito.de/veranstaltung/schulung-barrierefreie-pdf-dokumente-aus-indesign/
LOCATION:Online
CATEGORIES:Schulung (extern)
END:VEVENT
END:VCALENDAR