BEGIN:VCALENDAR
VERSION:2.0
PRODID:-//Barrierefreier Tourismus mit MosGiTo - ECPv6.15.20//NONSGML v1.0//EN
CALSCALE:GREGORIAN
METHOD:PUBLISH
X-WR-CALNAME:Barrierefreier Tourismus mit MosGiTo
X-ORIGINAL-URL:https://mosgito.de
X-WR-CALDESC:Veranstaltungen für Barrierefreier Tourismus mit MosGiTo
REFRESH-INTERVAL;VALUE=DURATION:PT1H
X-Robots-Tag:noindex
X-PUBLISHED-TTL:PT1H
BEGIN:VTIMEZONE
TZID:Europe/Berlin
BEGIN:DAYLIGHT
TZOFFSETFROM:+0100
TZOFFSETTO:+0200
TZNAME:CEST
DTSTART:20260329T010000
END:DAYLIGHT
BEGIN:STANDARD
TZOFFSETFROM:+0200
TZOFFSETTO:+0100
TZNAME:CET
DTSTART:20261025T010000
END:STANDARD
BEGIN:DAYLIGHT
TZOFFSETFROM:+0100
TZOFFSETTO:+0200
TZNAME:CEST
DTSTART:20270328T010000
END:DAYLIGHT
BEGIN:STANDARD
TZOFFSETFROM:+0200
TZOFFSETTO:+0100
TZNAME:CET
DTSTART:20271031T010000
END:STANDARD
BEGIN:DAYLIGHT
TZOFFSETFROM:+0100
TZOFFSETTO:+0200
TZNAME:CEST
DTSTART:20280326T010000
END:DAYLIGHT
BEGIN:STANDARD
TZOFFSETFROM:+0200
TZOFFSETTO:+0100
TZNAME:CET
DTSTART:20281029T010000
END:STANDARD
END:VTIMEZONE
BEGIN:VEVENT
DTSTART;VALUE=DATE:20270513
DTEND;VALUE=DATE:20270516
DTSTAMP:20260425T200119
CREATED:20220216T133355Z
LAST-MODIFIED:20251219T111014Z
UID:10000066-1810166400-1810425599@mosgito.de
SUMMARY:Messe „REHAB“ in Karlsruhe
DESCRIPTION:Die REHAB ist eine der großen Messen in Deutschland zum Thema Rehabilitation\, Therapie\, Pflege und Inklusion. Ich empfehle die Teilnahme für Tourismus-Akteure\, um sich über das Thema Behinderung zu informieren\, aber auch um mit behinderten Menschen – einzelnen Personen sowie ganzen Selbsthilfegruppen und Verbänden – in Kontakt zu kommen und das eigene Netzwerk auszubauen.
URL:https://mosgito.de/veranstaltung/messe-rehab-in-karlsruhe/
LOCATION:Karlsruhe
CATEGORIES:Messe
END:VEVENT
END:VCALENDAR