BEGIN:VCALENDAR
VERSION:2.0
PRODID:-//Barrierefreier Tourismus mit MosGiTo - ECPv6.15.20//NONSGML v1.0//EN
CALSCALE:GREGORIAN
METHOD:PUBLISH
X-ORIGINAL-URL:https://mosgito.de
X-WR-CALDESC:Veranstaltungen für Barrierefreier Tourismus mit MosGiTo
REFRESH-INTERVAL;VALUE=DURATION:PT1H
X-Robots-Tag:noindex
X-PUBLISHED-TTL:PT1H
BEGIN:VTIMEZONE
TZID:Europe/Berlin
BEGIN:DAYLIGHT
TZOFFSETFROM:+0100
TZOFFSETTO:+0200
TZNAME:CEST
DTSTART:20250330T010000
END:DAYLIGHT
BEGIN:STANDARD
TZOFFSETFROM:+0200
TZOFFSETTO:+0100
TZNAME:CET
DTSTART:20251026T010000
END:STANDARD
BEGIN:DAYLIGHT
TZOFFSETFROM:+0100
TZOFFSETTO:+0200
TZNAME:CEST
DTSTART:20260329T010000
END:DAYLIGHT
BEGIN:STANDARD
TZOFFSETFROM:+0200
TZOFFSETTO:+0100
TZNAME:CET
DTSTART:20261025T010000
END:STANDARD
BEGIN:DAYLIGHT
TZOFFSETFROM:+0100
TZOFFSETTO:+0200
TZNAME:CEST
DTSTART:20270328T010000
END:DAYLIGHT
BEGIN:STANDARD
TZOFFSETFROM:+0200
TZOFFSETTO:+0100
TZNAME:CET
DTSTART:20271031T010000
END:STANDARD
END:VTIMEZONE
BEGIN:VEVENT
DTSTART;VALUE=DATE:20260913
DTEND;VALUE=DATE:20260914
DTSTAMP:20260422T063810
CREATED:20220216T133143Z
LAST-MODIFIED:20250102T193117Z
UID:10000072-1789257600-1789343999@mosgito.de
SUMMARY:Tag des offenen Denkmals
DESCRIPTION:Immer am zweiten Sonntag im September öffnen sich Türen\, die vielleicht sonst verschlossen sind – zum Tag des offenen Denkmals. Viele touristische Akteure planen an diesem Tag besondere Aktionen für Gäste – warum nicht auch mal auf Barrierefreiheit achten? Viele der (oftmals älteren) Besucherinnen und Besucher werden es Ihnen danken!
URL:https://mosgito.de/veranstaltung/tag-des-offenen-denkmals/2026-09-13/
LOCATION:deutschlandweit
CATEGORIES:Aktionstag
END:VEVENT
END:VCALENDAR