BEGIN:VCALENDAR
VERSION:2.0
PRODID:-//Barrierefreier Tourismus mit MosGiTo - ECPv6.15.20//NONSGML v1.0//EN
CALSCALE:GREGORIAN
METHOD:PUBLISH
X-WR-CALNAME:Barrierefreier Tourismus mit MosGiTo
X-ORIGINAL-URL:https://mosgito.de
X-WR-CALDESC:Veranstaltungen für Barrierefreier Tourismus mit MosGiTo
REFRESH-INTERVAL;VALUE=DURATION:PT1H
X-Robots-Tag:noindex
X-PUBLISHED-TTL:PT1H
BEGIN:VTIMEZONE
TZID:Europe/Berlin
BEGIN:DAYLIGHT
TZOFFSETFROM:+0100
TZOFFSETTO:+0200
TZNAME:CEST
DTSTART:20250330T010000
END:DAYLIGHT
BEGIN:STANDARD
TZOFFSETFROM:+0200
TZOFFSETTO:+0100
TZNAME:CET
DTSTART:20251026T010000
END:STANDARD
BEGIN:DAYLIGHT
TZOFFSETFROM:+0100
TZOFFSETTO:+0200
TZNAME:CEST
DTSTART:20260329T010000
END:DAYLIGHT
BEGIN:STANDARD
TZOFFSETFROM:+0200
TZOFFSETTO:+0100
TZNAME:CET
DTSTART:20261025T010000
END:STANDARD
BEGIN:DAYLIGHT
TZOFFSETFROM:+0100
TZOFFSETTO:+0200
TZNAME:CEST
DTSTART:20270328T010000
END:DAYLIGHT
BEGIN:STANDARD
TZOFFSETFROM:+0200
TZOFFSETTO:+0100
TZNAME:CET
DTSTART:20271031T010000
END:STANDARD
END:VTIMEZONE
BEGIN:VEVENT
DTSTART;VALUE=DATE:20260505
DTEND;VALUE=DATE:20260511
DTSTAMP:20260422T025516
CREATED:20260305T175225Z
LAST-MODIFIED:20260305T180401Z
UID:10000181-1777939200-1778457599@mosgito.de
SUMMARY:Aktionswoche "Barrierefrei Westlicher Bodensee - Erlebnisse für alle"
DESCRIPTION:Die Destination „Westlicher Bodensee“ präsentiert sein Angebot zum Thema Barrierefreiheit in einer „Aktionswoche“ im Mai 2026. So versucht die Region auf das Thema und die Angebote aufmerksam zu machen und Menschen mit und ohne Behinderung zusammenzubringen. \nInsbesondere für Individualtouristen könnte das Angebot interessant sein – wer sich für eine Urlaubswoche am Bodensee entscheidet\, kann sich gleich zu mehreren Veranstaltungen in diesem Zeitraum anmelden. Das ergibt ein tolles Ferienprogramm! \nMehr Infos unter: https://www.bodenseewest.eu/de/service/barrierefreiheit/aktionswoche-barrierefrei \n 
URL:https://mosgito.de/veranstaltung/aktionswoche-barrierefrei-westlicher-bodensee-erlebnisse-fuer-alle/
LOCATION:Online
CATEGORIES:Zielgruppen-Event
END:VEVENT
END:VCALENDAR