BEGIN:VCALENDAR
VERSION:2.0
PRODID:-//Barrierefreier Tourismus mit MosGiTo - ECPv6.15.20//NONSGML v1.0//EN
CALSCALE:GREGORIAN
METHOD:PUBLISH
X-WR-CALNAME:Barrierefreier Tourismus mit MosGiTo
X-ORIGINAL-URL:https://mosgito.de
X-WR-CALDESC:Veranstaltungen für Barrierefreier Tourismus mit MosGiTo
REFRESH-INTERVAL;VALUE=DURATION:PT1H
X-Robots-Tag:noindex
X-PUBLISHED-TTL:PT1H
BEGIN:VTIMEZONE
TZID:Europe/Berlin
BEGIN:DAYLIGHT
TZOFFSETFROM:+0100
TZOFFSETTO:+0200
TZNAME:CEST
DTSTART:20240331T010000
END:DAYLIGHT
BEGIN:STANDARD
TZOFFSETFROM:+0200
TZOFFSETTO:+0100
TZNAME:CET
DTSTART:20241027T010000
END:STANDARD
BEGIN:DAYLIGHT
TZOFFSETFROM:+0100
TZOFFSETTO:+0200
TZNAME:CEST
DTSTART:20250330T010000
END:DAYLIGHT
BEGIN:STANDARD
TZOFFSETFROM:+0200
TZOFFSETTO:+0100
TZNAME:CET
DTSTART:20251026T010000
END:STANDARD
BEGIN:DAYLIGHT
TZOFFSETFROM:+0100
TZOFFSETTO:+0200
TZNAME:CEST
DTSTART:20260329T010000
END:DAYLIGHT
BEGIN:STANDARD
TZOFFSETFROM:+0200
TZOFFSETTO:+0100
TZNAME:CET
DTSTART:20261025T010000
END:STANDARD
END:VTIMEZONE
BEGIN:VEVENT
DTSTART;VALUE=DATE:20251005
DTEND;VALUE=DATE:20251008
DTSTAMP:20260424T001834
CREATED:20250102T205832Z
LAST-MODIFIED:20250102T205832Z
UID:10000162-1759622400-1759881599@mosgito.de
SUMMARY:3rd World Summit on Accessible Tourism
DESCRIPTION:Der 3. Welt-Kongress zur Barrierefreiheit im Tourismus findet in Turin\, Italien statt. Ziel der Veranstaltung ist es\, Aufmerksamkeit zu schaffen und den Austausch der Akteure\, die im Tourismus bereits Barrierefreiheit anstreben\, zu fördern.
URL:https://mosgito.de/veranstaltung/3rd-world-summit-on-accessible-tourism/
LOCATION:Turin\, Turin\, Italy
CATEGORIES:Tagung
END:VEVENT
END:VCALENDAR