BEGIN:VCALENDAR
VERSION:2.0
PRODID:-//Barrierefreier Tourismus mit MosGiTo - ECPv6.15.20//NONSGML v1.0//EN
CALSCALE:GREGORIAN
METHOD:PUBLISH
X-WR-CALNAME:Barrierefreier Tourismus mit MosGiTo
X-ORIGINAL-URL:https://mosgito.de
X-WR-CALDESC:Veranstaltungen für Barrierefreier Tourismus mit MosGiTo
REFRESH-INTERVAL;VALUE=DURATION:PT1H
X-Robots-Tag:noindex
X-PUBLISHED-TTL:PT1H
BEGIN:VTIMEZONE
TZID:Europe/Berlin
BEGIN:DAYLIGHT
TZOFFSETFROM:+0100
TZOFFSETTO:+0200
TZNAME:CEST
DTSTART:20250330T010000
END:DAYLIGHT
BEGIN:STANDARD
TZOFFSETFROM:+0200
TZOFFSETTO:+0100
TZNAME:CET
DTSTART:20251026T010000
END:STANDARD
BEGIN:DAYLIGHT
TZOFFSETFROM:+0100
TZOFFSETTO:+0200
TZNAME:CEST
DTSTART:20260329T010000
END:DAYLIGHT
BEGIN:STANDARD
TZOFFSETFROM:+0200
TZOFFSETTO:+0100
TZNAME:CET
DTSTART:20261025T010000
END:STANDARD
BEGIN:DAYLIGHT
TZOFFSETFROM:+0100
TZOFFSETTO:+0200
TZNAME:CEST
DTSTART:20270328T010000
END:DAYLIGHT
BEGIN:STANDARD
TZOFFSETFROM:+0200
TZOFFSETTO:+0100
TZNAME:CET
DTSTART:20271031T010000
END:STANDARD
END:VTIMEZONE
BEGIN:VEVENT
DTSTART;TZID=Europe/Berlin:20260226T100000
DTEND;TZID=Europe/Berlin:20260226T160000
DTSTAMP:20260423T065142
CREATED:20251219T102315Z
LAST-MODIFIED:20251219T110738Z
UID:10000179-1772100000-1772121600@mosgito.de
SUMMARY:Barrierefreiheit im Wandel: Chancen und Grenzen von Gebärdensprach-Avataren
DESCRIPTION:Digitale Technologien revolutionieren die Art und Weise\, wie wir kommunizieren. Doch was bedeutet das für barrierefreie Kommunikation? Können Gebärdensprach-Avatare die Teilhabe von gehörlosen oder hörbeeinträchtigten Menschen verbessern? Und wie lassen sich Engpässe bei Gebärdensprach-Dolmetschenden mithilfe dieser Technologien ausgleichen? \nDiese und weitere Fragen stehen im Mittelpunkt der Veranstaltung „Barrierefreiheit im Wandel: Chancen und Grenzen von Gebärdensprach-Avataren“\, zu der die Bundesfachstelle Barrierefreiheit herzlich einlädt. \nWann: Donnerstag\, 26. Februar 2026 von 10:00-16:00 Uhr\nWo: KOM27 (Mauerstr. 27\, 10117 Berlin) und online \nFreuen Sie sich auf spannende Vorträge von: \n· Ralph Raule\, Präsident Deutscher Gehörlosen-Bund e.V.\, \n· Dr. Verena Krausneker\, Gebärdensprachlinguistin\, Universität Wien und Sandra Schügerl\, Übersetzerin & Dolmetscherin für ÖGS\, \n· Dr. Berit Blanc\, Forscherin am Deutschen Forschungszentrum für Künstliche Intelligenz (DFKI)\, \n· Alexander Stricker\, Geschäftsführer alangu GmbH und Carsten Schmidt\, Gebärdensprachexperte\, alangu GmbH \nsowie eine Podiumsdiskussion mit weiteren Expertinnen und Experten. \nModeriert wird die Veranstaltung von Anke Klingemann und Martin Mölder. \nDetaillierte Informationen zum Programm und zur Anmeldung folgen in Kürze unter https://www.bundesfachstelle-barrierefreiheit.de/DE/Home/home_node.html 
URL:https://mosgito.de/veranstaltung/barrierefreiheit-im-wandel-chancen-und-grenzen-von-gebaerdensprach-avataren/
LOCATION:Online
CATEGORIES:Tagung
END:VEVENT
END:VCALENDAR